BEGIN:VCALENDAR
VERSION:2.0
PRODID:-//Eventin//Event Calendar//EN
CALSCALE:GREGORIAN
METHOD:PUBLISH
BEGIN:VEVENT
UID:15ca496e1b3bf7a2058eefba7c5718ac@lelaurier-naturo.com
SUMMARY:Cours en visio Mardi 19:00-20:15
DESCRIPTION:Se connecter 10min avant la séance. Installation avant le cour
 s de MUNZ FLOOR : • Choisissez l’espace pour le cours
LOCATION:Online
DTSTAMP:20260421T105908Z
DTSTART:20260421T170000Z
DTEND:20260421T181500Z
END:VEVENT
END:VCALENDAR
