BEGIN:VCALENDAR
VERSION:2.0
PRODID:-//Eventin//Event Calendar//EN
CALSCALE:GREGORIAN
METHOD:PUBLISH
BEGIN:VEVENT
UID:ca68e2b52fdb7e5add812e76f26af55e@lelaurier-naturo.com
SUMMARY:Abonnement 10 cours
DESCRIPTION:Valable 8 mois à partir de la date d'achat\, nominatif et non 
 remboursable..\nCet abonnement vous permet de réserver en ligne 10 cours d
 e MUNZ FLOOR gratuitement. Pour cela\, dans les 24 heures suivant la comman
 de\, vous allez recevoir un code abonnement à appliquer à chaque réserva
 tion.\n \n\n \n\n \n\n 
LOCATION:Hybrid
DTSTAMP:20260421T094022Z
DTSTART:20260501T220000Z
DTEND:20270106T225500Z
END:VEVENT
END:VCALENDAR
