BEGIN:VCALENDAR
VERSION:2.0
PRODID:-//Eventin//Event Calendar//EN
CALSCALE:GREGORIAN
METHOD:PUBLISH
BEGIN:VEVENT
UID:e6a5e0a02e23a71f84130d9f19b45738@lelaurier-naturo.com
SUMMARY:Abonnement 10 cours
DESCRIPTION:Valable 8 mois à partir de la date d'achat\, nominatif et non 
 remboursable..\nCet abonnement vous permet de réserver en ligne 10 cours d
 e MUNZ FLOOR gratuitement. Pour cela\, dans les 24 heures suivant la comman
 de\, vous allez recevoir un code abonnement à appliquer à chaque réserva
 tion.\n \n\n \n\n \n\n 
LOCATION:Hybrid
DTSTAMP:20260421T080455Z
DTSTART:20260416T220000Z
DTEND:20261222T225500Z
END:VEVENT
END:VCALENDAR
