BEGIN:VCALENDAR
VERSION:2.0
PRODID:-//Eventin//Event Calendar//EN
CALSCALE:GREGORIAN
METHOD:PUBLISH
BEGIN:VEVENT
UID:7ebb6411a523fc6d2d26d78b7d2fd264@lelaurier-naturo.com
SUMMARY:Cours en salle Montarnaud Vendredi 11:00-12:15
DESCRIPTION:Salle Les Erables (40 mail Georges Sand) – Montarnaud
LOCATION:Salle Les Erables : 40 mail Georges Sand - Montarnaud
DTSTAMP:20260421T093506Z
DTSTART:20260626T090000Z
DTEND:20260626T101500Z
END:VEVENT
END:VCALENDAR
