BEGIN:VCALENDAR
VERSION:2.0
PRODID:-//Eventin//Event Calendar//EN
CALSCALE:GREGORIAN
METHOD:PUBLISH
BEGIN:VEVENT
UID:306de10d9f319a930503a77e45293384@lelaurier-naturo.com
SUMMARY:Cours en salle Montarnaud Vendredi 11:00-12:15
DESCRIPTION:Salle Les Erables (40 mail Georges Sand) – Montarnaud
LOCATION:Salle Les Erables : 40 mail Georges Sand - Montarnaud
DTSTAMP:20260421T091900Z
DTSTART:20260619T090000Z
DTEND:20260619T101500Z
END:VEVENT
END:VCALENDAR
