BEGIN:VCALENDAR
VERSION:2.0
PRODID:-//Eventin//Event Calendar//EN
CALSCALE:GREGORIAN
METHOD:PUBLISH
BEGIN:VEVENT
UID:c618b6ecc8855be4f86048dbdee2c1b1@lelaurier-naturo.com
SUMMARY:Cours en salle Montarnaud Vendredi 11:00-12:15
DESCRIPTION:Salle Les Erables (40 mail Georges Sand) – Montarnaud
LOCATION:Salle Les Erables : 40 mail Georges Sand - Montarnaud
DTSTAMP:20260423T085834Z
DTSTART:20260605T090000Z
DTEND:20260605T101500Z
END:VEVENT
END:VCALENDAR
