BEGIN:VCALENDAR
VERSION:2.0
PRODID:-//Eventin//Event Calendar//EN
CALSCALE:GREGORIAN
METHOD:PUBLISH
BEGIN:VEVENT
UID:d95dd5b5be54c23bf33f17c3beb9b623@lelaurier-naturo.com
SUMMARY:Cours en salle Montarnaud Vendredi 11:00-12:15
DESCRIPTION:Salle Les Erables (40 mail Georges Sand) – Montarnaud
LOCATION:Salle Les Erables : 40 mail Georges Sand - Montarnaud
DTSTAMP:20260421T080630Z
DTSTART:20260508T090000Z
DTEND:20260508T101500Z
END:VEVENT
END:VCALENDAR
