BEGIN:VCALENDAR
VERSION:2.0
PRODID:-//Eventin//Event Calendar//EN
CALSCALE:GREGORIAN
METHOD:PUBLISH
BEGIN:VEVENT
UID:7caa932f4b2b4ef28a2768e0a21d4812@lelaurier-naturo.com
SUMMARY:Cours en salle Montarnaud Vendredi 11:00-12:15
DESCRIPTION:Salle Les Erables (40 mail Georges Sand) – Montarnaud
LOCATION:Salle Les Erables : 40 mail Georges Sand - Montarnaud
DTSTAMP:20260419T144019Z
DTSTART:20260424T090000Z
DTEND:20260424T101500Z
END:VEVENT
END:VCALENDAR
