BEGIN:VCALENDAR
VERSION:2.0
PRODID:-//Eventin//Event Calendar//EN
CALSCALE:GREGORIAN
METHOD:PUBLISH
BEGIN:VEVENT
UID:0e102160c15b2e27ba3a3f995472e2e7@lelaurier-naturo.com
SUMMARY:Cours en salle Montpellier Mercredi 19:15-20:30
DESCRIPTION:Salle Tissual Balancing Academy (8\, rue Serane) - Montpellier
LOCATION:Salle Tissual Balancing Academy : 8\, rue Serane - Montpellier
DTSTAMP:20260421T081240Z
DTSTART:20260520T171500Z
DTEND:20260520T183000Z
END:VEVENT
END:VCALENDAR
