BEGIN:VCALENDAR
VERSION:2.0
PRODID:-//Eventin//Event Calendar//EN
CALSCALE:GREGORIAN
METHOD:PUBLISH
BEGIN:VEVENT
UID:4cbdb407aff4d251895717ec9617a30c@lelaurier-naturo.com
SUMMARY:Cours en salle Montpellier Lundi 18:00-19:15
DESCRIPTION:Salle Le Carrousel - 9 cours Gambetta - 34000 Montpellier
LOCATION:Salle Le Carrousel - 9\, cours Gambetta - Montpellier
DTSTAMP:20260421T092803Z
DTSTART:20260615T160000Z
DTEND:20260615T171500Z
END:VEVENT
END:VCALENDAR
