BEGIN:VCALENDAR
VERSION:2.0
PRODID:-//Eventin//Event Calendar//EN
CALSCALE:GREGORIAN
METHOD:PUBLISH
BEGIN:VEVENT
UID:5af60bc2a0d9a80bdef775964e004478@lelaurier-naturo.com
SUMMARY:Cours en salle Montarnaud Vendredi 18:15-19:30
DESCRIPTION:Salle Les Erables (40 mail Georges Sand) - Montarnaud
LOCATION:Salle Les Erables : 40 mail Georges Sand - Montarnaud
DTSTAMP:20260421T091808Z
DTSTART:20260529T161500Z
DTEND:20260529T173000Z
END:VEVENT
END:VCALENDAR
